BEGIN:VCALENDAR
VERSION:2.0
PRODID:-//www.allschwil.ch//NONSGML kigkonsult.se iCalcreator 2.22//
CALSCALE:GREGORIAN
METHOD:PUBLISH
X-WR-TIMEZONE:Europe/Berlin
BEGIN:VEVENT
UID:20260421T030607CEST-21322kPnBm@www.allschwil.ch
DTSTAMP:20260421T010607Z
DESCRIPTION:Klicken Sie auf den folgenden Link\, um weitere Informationen z
 ur Veranstaltung zu erhalten:\nhttp://www.allschwil.ch/de/veranstaltungen/
 detail/detail.php?i=10953400
DTSTART:20260520T180000
DTEND:20260520T210000
LOCATION:Saal
SUMMARY:Einwohnerratssitzung
END:VEVENT
END:VCALENDAR
